BEGIN:VCALENDAR
VERSION:2.0
PRODID:-//jEvents 2.0 for Joomla//EN
CALSCALE:GREGORIAN
METHOD:PUBLISH
BEGIN:VTIMEZONE
TZID:America/New_York
BEGIN:STANDARD
DTSTART:20291110T000000
RDATE:20300310T030000
TZOFFSETFROM:-0400
TZOFFSETTO:-0500
TZNAME:America/New_York EST
END:STANDARD
END:VTIMEZONE
BEGIN:VEVENT
UID:20301111_8be9e162s952n5939dcmo268b8@google.com
CATEGORIES:holiday
CLASS:PUBLIC
CREATED:20260106T071259
SUMMARY:Veterans Day
DESCRIPTION:Public holiday
DTSTAMP:20260420T134220
DTSTART;TZID=America/New_York;VALUE=DATE:20301111
DTEND;TZID=America/New_York;VALUE=DATE:20301112
SEQUENCE:0
TRANSP:OPAQUE
END:VEVENT
END:VCALENDAR