BEGIN:VCALENDAR
VERSION:2.0
PRODID:-//jEvents 2.0 for Joomla//EN
CALSCALE:GREGORIAN
METHOD:PUBLISH
BEGIN:VTIMEZONE
TZID:America/New_York
BEGIN:STANDARD
DTSTART:20290213T000000
RDATE:20290311T030000
TZOFFSETFROM:-0400
TZOFFSETTO:-0500
TZNAME:America/New_York EST
END:STANDARD
BEGIN:STANDARD
DTSTART:20291104T010000
RDATE:20300310T030000
TZOFFSETFROM:-0400
TZOFFSETTO:-0500
TZNAME:America/New_York EST
END:STANDARD
BEGIN:DAYLIGHT
DTSTART:20290311T030000
RDATE:20291104T010000
TZOFFSETFROM:-0500
TZOFFSETTO:-0400
TZNAME:America/New_York EDT
END:DAYLIGHT
END:VTIMEZONE
BEGIN:VEVENT
UID:20300214_8jaf4mfs29dap5ml2jba4ebtpc@google.com
CATEGORIES:holiday
CLASS:PUBLIC
CREATED:20260106T071259
SUMMARY:Valentine's Day
DESCRIPTION:Observance<br/>To hide observances, go to Google Calendar Settings > Holida
 ys in United States
DTSTAMP:20260422T041213
DTSTART;TZID=America/New_York;VALUE=DATE:20300214
DTEND;TZID=America/New_York;VALUE=DATE:20300215
SEQUENCE:0
TRANSP:OPAQUE
END:VEVENT
END:VCALENDAR